BEGIN:VCALENDAR
VERSION:2.0
PRODID:SchoolNow
CALSCALE:GREGORIAN
BEGIN:VEVENT
UID:cc25ad0c-63e5-11f0-9bfa-0ee313ac3605
DTSTAMP:20260424T221104Z
SUMMARY:Modified II Winter Sports Photos
URL;VALUE=URI:https://www.gblions.org/jshs/calendar/8427187/modified-ii-win
 ter-sports-photos
DTSTART;VALUE=DATE:20260130
DTEND;VALUE=DATE:20260131
END:VEVENT
END:VCALENDAR
