BEGIN:VCALENDAR
VERSION:2.0
PRODID:SchoolNow
CALSCALE:GREGORIAN
BEGIN:VEVENT
UID:cc25ae06-63e5-11f0-8ff8-0ee313ac3605
DTSTAMP:20260424T160611Z
SUMMARY:JV/Varsity Spring Sports Photos
URL;VALUE=URI:https://www.gblions.org/jshs/calendar/8427188/jv-varsity-spri
 ng-sports-photos
DTSTART;VALUE=DATE:20260417
DTEND;VALUE=DATE:20260418
END:VEVENT
END:VCALENDAR
