BEGIN:VCALENDAR
VERSION:2.0
PRODID:SchoolNow
CALSCALE:GREGORIAN
BEGIN:VEVENT
UID:cc25aeec-63e5-11f0-889e-0ee313ac3605
DTSTAMP:20260424T160611Z
SUMMARY:Modified Spring Sports Photos
URL;VALUE=URI:https://www.gblions.org/jshs/calendar/8427189/modified-spring
 -sports-photos
DTSTART;VALUE=DATE:20260427
DTEND;VALUE=DATE:20260428
END:VEVENT
END:VCALENDAR
