BEGIN:VCALENDAR
VERSION:2.0
PRODID:SchoolNow
CALSCALE:GREGORIAN
BEGIN:VEVENT
UID:4583c5f0-0dd5-11f1-abbd-0a58a9feac02
DTSTAMP:20260424T160611Z
SUMMARY:NYS Grades 3-8 ELA Exam
URL;VALUE=URI:https://www.gblions.org/jshs/calendar/8861054/nys-grades-3-8-
 ela-exam
DTSTART;VALUE=DATE:20260421
DTEND;VALUE=DATE:20260423
END:VEVENT
END:VCALENDAR
